BEGIN:VCALENDAR
VERSION:2.0
PRODID:-//Sarasota Children&#039;s Museum - ECPv6.8.1//NONSGML v1.0//EN
CALSCALE:GREGORIAN
METHOD:PUBLISH
X-ORIGINAL-URL:https://www.sarasotachildrensmuseum.org
X-WR-CALDESC:Events for Sarasota Children&#039;s Museum
REFRESH-INTERVAL;VALUE=DURATION:PT1H
X-Robots-Tag:noindex
X-PUBLISHED-TTL:PT1H
BEGIN:VTIMEZONE
TZID:UTC
BEGIN:STANDARD
TZOFFSETFROM:+0000
TZOFFSETTO:+0000
TZNAME:UTC
DTSTART:20240101T000000
END:STANDARD
END:VTIMEZONE
BEGIN:VEVENT
DTSTART;TZID=UTC:20260422T173000
DTEND;TZID=UTC:20260422T193000
DTSTAMP:20260423T211801
CREATED:20260331T012415Z
LAST-MODIFIED:20260331T013509Z
UID:6432-1776879000-1776886200@www.sarasotachildrensmuseum.org
SUMMARY:Remake Learning Days: Mote SEA
DESCRIPTION:Celebrate Earth Day with the Sarasota Children’s Museum at an interactive evening of hands-on environmental exploration! \nJoin us at Mote SEA alongside Mote Marine Laboratory & Aquarium and WEDU PBS for a special Remake Learning Day experience featuring a screening of Wild Kratts: Our Blue and Green World\, a creature scavenger hunt\, and engaging indoor and outdoor activities. \nAt the Sarasota Children’s Museum station\, families will explore Florida’s ecosystems through hands-on STEAM experiences focused on seed dispersal\, habitats\, and conservation. \nChildren will rotate through activity stations where they will:🌱 Create seed nuggets💨 Experiment with wind dispersal🐾 Discover how animals help move seeds throughout nature \nThese activities connect core science concepts to real-world environmental impact and encourage kids to think about sustainability and protecting Florida’s unique ecosystems. \nDesigned for children ages 4–8 and their families\, but all are welcome. \nCome celebrate our planet\, spark curiosity\, and learn through play!
URL:https://www.sarasotachildrensmuseum.org/event/remake-learning-days-mote-sea/
LOCATION:Mote Science Education Aquarium (SEA)\, 225 University Town Center Drive\, Sarasota\, 34243\, United States
CATEGORIES:Program
ATTACH;FMTTYPE=image/jpeg:https://www.sarasotachildrensmuseum.org/wp-content/uploads/2026/03/MoteSEARemakeLearningDays.jpg
END:VEVENT
BEGIN:VEVENT
DTSTART;TZID=UTC:20260422T170000
DTEND;TZID=UTC:20260422T190000
DTSTAMP:20260423T211801
CREATED:20260226T022112Z
LAST-MODIFIED:20260226T145712Z
UID:6408-1776877200-1776884400@www.sarasotachildrensmuseum.org
SUMMARY:Remake Learning Days: Earth Day at Cranberry Elementary
DESCRIPTION:Celebrate Earth Day with the Sarasota Children’s Museum at an interactive evening of hands-on environmental exploration. Families are invited to discover Florida’s ecosystems through engaging STEAM activities focused on seed dispersal\, habitats\, and conservation. \nChildren will rotate through activity stations where they’ll create seed nuggets\, experiment with wind dispersal\, and learn how animals help move seeds throughout nature. These experiences connect core science concepts to real-world environmental impact and encourage kids to think about sustainability and protecting Florida’s unique ecosystems. \nThis family-friendly event brings accessible\, engaging STEAM education directly into the school community while building excitement for the future Sarasota Children’s Museum. \n 
URL:https://www.sarasotachildrensmuseum.org/event/earth-day-at-cranberry-elementary/
LOCATION:Cranberry Elementary\, 2775 Shalimar Terrace\, North Port\, FL\, 34286\, United States
CATEGORIES:Program
ATTACH;FMTTYPE=image/jpeg:https://www.sarasotachildrensmuseum.org/wp-content/uploads/2026/02/Skye-Ranch-School-STEAM-Night-2.jpg
END:VEVENT
BEGIN:VEVENT
DTSTART;TZID=UTC:20260421T173000
DTEND;TZID=UTC:20260421T193000
DTSTAMP:20260423T211801
CREATED:20260226T023830Z
LAST-MODIFIED:20260226T145920Z
UID:6411-1776792600-1776799800@www.sarasotachildrensmuseum.org
SUMMARY:Remake Learning Days: Kick-Off for Kindergarten – Venice/Englewood
DESCRIPTION:The Sarasota Children’s Museum is excited to be part of Kick-Off for Kindergarten\, welcoming incoming kindergarten students and their families as they prepare for this exciting milestone. \nStop by our interactive play-based STEAM station featuring large foam building blocks and toy train exploration. Through hands-on building and imaginative play\, children will strengthen creativity\, problem-solving skills\, and confidence — all essential foundations for a successful start to school. \nThis family-friendly event celebrates learning through play and helps build excitement for the kindergarten journey ahead\, while continuing to grow awareness for the future Sarasota Children’s Museum.
URL:https://www.sarasotachildrensmuseum.org/event/kick-off-for-kindergarten-venice-englewood/
LOCATION:FL
CATEGORIES:Program
ATTACH;FMTTYPE=image/jpeg:https://www.sarasotachildrensmuseum.org/wp-content/uploads/2026/02/Skye-Ranch-School-STEAM-Night-4.jpg
END:VEVENT
BEGIN:VEVENT
DTSTART;TZID=UTC:20260304T170000
DTEND;TZID=UTC:20260304T190000
DTSTAMP:20260423T211801
CREATED:20260226T020254Z
LAST-MODIFIED:20260226T020404Z
UID:6397-1772643600-1772650800@www.sarasotachildrensmuseum.org
SUMMARY:Skye Ranch STEAM Night
DESCRIPTION:Join the Sarasota Children’s Museum for an interactive evening of hands-on STEAM exploration focused on Florida’s unique ecosystems. Families will rotate through engaging activity stations where children will create seed nuggets\, explore wind dispersal\, and discover how animals help spread seeds in nature. \nThis event connects environmental science to real-world impact while inspiring curiosity\, creativity\, and conservation in young learners. Designed for elementary-age students and their families. \nNOTE: This event is for Skye Ranch School families.
URL:https://www.sarasotachildrensmuseum.org/event/skye-ranch-steam-night/
LOCATION:Skye Ranch School\, 16600 Savoy Court\, Sarasota\, FL\, 34241\, United States
CATEGORIES:Program
ATTACH;FMTTYPE=image/jpeg:https://www.sarasotachildrensmuseum.org/wp-content/uploads/2026/02/Skye-Ranch-School-STEAM-Night.jpg
END:VEVENT
BEGIN:VEVENT
DTSTART;TZID=UTC:20260226T080000
DTEND;TZID=UTC:20260226T170000
DTSTAMP:20260423T211801
CREATED:20260226T022402Z
LAST-MODIFIED:20260226T145942Z
UID:6410-1772092800-1772125200@www.sarasotachildrensmuseum.org
SUMMARY:Remake Learning Days: Earth Day at Wilkinson Elementary
DESCRIPTION:Join the Sarasota Children’s Museum for an interactive Earth Day celebration at Wilkinson Elementary. This hands-on STEAM experience invites children and families to explore Florida’s ecosystems through engaging activities focused on seed dispersal\, habitats\, and conservation. \nStudents will rotate through activity stations where they’ll create seed nuggets\, experiment with wind dispersal\, and discover how animals help move seeds throughout nature. Each activity connects core science concepts to real-world environmental impact\, encouraging kids to think about sustainability and protecting Florida’s unique environment. \nThis family-friendly event brings accessible\, engaging STEAM education directly into the school community while continuing to build excitement for the future Sarasota Children’s Museum.
URL:https://www.sarasotachildrensmuseum.org/event/earth-day-at-wilkinson-elementary/
LOCATION:Wilkinson Elementary\, 3400 Wilkinson Rd\, Sarasota\, FL\, 34231
CATEGORIES:Program
ATTACH;FMTTYPE=image/jpeg:https://www.sarasotachildrensmuseum.org/wp-content/uploads/2026/02/Skye-Ranch-School-STEAM-Night-3.jpg
END:VEVENT
BEGIN:VEVENT
DTSTART;TZID=UTC:20250426T100000
DTEND;TZID=UTC:20250426T130000
DTSTAMP:20260423T211801
CREATED:20250324T013319Z
LAST-MODIFIED:20250324T013319Z
UID:6047-1745661600-1745672400@www.sarasotachildrensmuseum.org
SUMMARY:Remake Learning Days - Wonder Outpost: From Mud Pies to Starry Skies
DESCRIPTION:Join the Sarasota Children’s Museum for Remake Learning Days! \nGear up for a day of wonder at the Wonder Outpost\, where every corner is bursting with fun! Dig into the dirt\, sniff out the scents of nature\, and gaze up at the stars as we explore the world from the ground up. With hands-on activities that tickle your senses and spark your imagination\, this adventure is perfect for curious kids and their grown-up sidekicks. Whether you’re crafting\, building\, or simply marveling\, the Wonder Outpost is your passport to a day full of discovery and giggles. Let’s get messy\, silly\, and inspired—together!
URL:https://www.sarasotachildrensmuseum.org/event/remake-learning-days-wonder-outpost-from-mud-pies-to-starry-skies/
LOCATION:Wilkinson Elementary\, 3400 Wilkinson Rd\, Sarasota\, FL\, 34231
CATEGORIES:Program
ATTACH;FMTTYPE=image/jpeg:https://www.sarasotachildrensmuseum.org/wp-content/uploads/2025/03/Wonder-Outpost-1.jpg
END:VEVENT
BEGIN:VEVENT
DTSTART;TZID=UTC:20250208T090000
DTEND;TZID=UTC:20250208T110000
DTSTAMP:20260423T211801
CREATED:20250125T190705Z
LAST-MODIFIED:20250125T190705Z
UID:6002-1739005200-1739012400@www.sarasotachildrensmuseum.org
SUMMARY:Batter Up for Books! ELC’s 5th Annual Storybook Street
DESCRIPTION:The Sarasota Children’s Museum is excited to take part in Storybook Street! \nInformation about the event from the Early Learning Coalition of Sarasota County: \nAt Sarasota’s iconic ballpark\, tales take flight\,\nWhere books and music pitch pure delight.\nScience steps up to join the play\,\nCome watch imaginations swing away! \nThe Early Learning Coalition’s FREE\, family-friendly\, literacy-meets-the-arts extravaganza is back in 2025! \nSaturday\, February 8\, 2025\nEd Smith Stadium\n2700 12th Street\nSarasota\, FL 34237\n9am-11am \n*Free parking \nWe are thrilled to announce our continued partnership with Ed Smith Stadium as we bring our 5th annual Storybook Street back full circle\, returning the event to its original venue. \nDesigned for children ages birth to seven\, Storybook Street is set to dazzle once again as it delivers a unique blend of imagination\, creativity and scientific discovery\, all in one unforgettable experience. \nCollaborating with two dozen organizations to bring books to life with preschool pomp and circumstance\, the event will feature art\, dance\, drama\, music\, movement and more! Picture your child’s excitement as a book-themed spectacle unfolds right in front of their eyes. Books are distributed at each vendor booth\, tangible keepsakes of the magic they just witnessed. \nNo registration necessary. Just show up! \nEach family will have an opportunity to walk away with 20 books\, a swag bag of goodies as well as meaningful\, memorable moments to help foster an early love of reading. Children are welcome to dress up as their favorite storybook character. \nThe whimsical event will feature the many creative talents of: \nSarasota Orchestra\nVenice Theatre\nCreArte Latino\nGulf Coast Music Therapy\nNailed It DIY Sarasota\nThe Ringling Museum\nWholehearted Education\nSidewalk Science Center\nThe Venice Symphony\nSarasota Children’s Museum\nAll Faiths Food Bank\, Education Team\nThe Sarasota Players\nSarasota Performing Arts Foundation \nBig Cat Habitat\nSarasota Young Voices (SYV)\nFuture of Dance\nState College of Florida Manatee-Sarasota\, Natural Sciences Dept.\nUF/IFAS Extension Sarasota County \nAn artistic literary adventure awaits your arrival! \nClick here for a printable flyer \nFollow our social pages for up-to-date event details:\nFacebook: Click here\nInstagram: Click here\nLinked In: Click here \nClick here to see photos from past Storybook Street events \nQuestions? Email Ana McClendon: amcclendon@elcsarasota.org \n¡Jonrón de Lectura!\nLa Quinta Edición Anual de Storybook Street de ELC Regresa a Sarasota \n¡El espectáculo GRATUITO\, familiar y de alfabetización que se une a las artes de la Early Learning Coalition of Sarasota County regresa en 2025! \nSábado\, 8 de febrero de 2025\nEstadio Ed Smith\n2700 12th Street\nSarasota\, FL 34237\n9am-11am\n* Estacionamiento gratuito \nEstamos encantados de anunciar nuestra asociación continua con el Estadio Ed Smith mientras completamos nuestro quinto Storybook Street anual\, devolviendo el evento a su lugar original. \nDiseñado para niños desde el nacimiento hasta los siete años\, Storybook Street está listo para deslumbrar una vez más\, ya que ofrece una combinación única de imaginación\, creatividad y descubrimiento científico\, todo en una experiencia inolvidable. En colaboración con dos docenas de organizaciones para dar vida a los libros con pompa y solemnidad preescolar\, el evento contará con arte\, danza\, teatro\, música\, movimiento y más. Imagínese la emoción de su hijo mientras se desarrolla un espectáculo con temática de libros frente a sus ojos. En cada puesto de venta se distribuirán libros\, recuerdos tangibles de la magia que acaban de presenciar. \nNo necesita reservación. ¡Solo venga! \nCada familia tendrá la oportunidad de llevarse 20 libros\, una bolsa de obsequios y momentos significativos y memorables para ayudar a fomentar el amor por la lectura desde temprano. Los niños pueden disfrazarse de su personaje de cuento favorito. \nEl evento extravagante contará con los muchos talentos creativos de: \nSarasota Orchestra\nVenice Theatre\nCreArte Latino\nGulf Coast Music Therapy\nNailed It DIY Sarasota\nThe Ringling Museum\nWholehearted Education\nSidewalk Science Center\nThe Venice Symphony\nSarasota Children’s Museum\nAll Faiths Food Bank\nThe Sarasota Players\nBig Cat Habitat\nSarasota Young Voices\nSCF Natural Sciences Dept\nFuture of Dance\nSarasota Performing Arts Foundation\nUF/IFAS Extension Sarasota County\nAnd more! \nAn artistic literary adventure awaits your arrival! \nClick here for a printable flyer \nFollow our social pages for up-to-date event details:\nFacebook | Instagram | LinkedIn \nClick here to see photos from past Storybook Street events\nQuestions? Email Ana McClendon: amcclendon@elcsarasota.org \n¡Y mucho más! \nPara este evento\, nos complace distribuir una colección de libros completamente nueva\, lo que garantiza títulos nuevos que no se han compartido en años pasados. \n¡Una aventura literaria artística te espera! \nClick here para obtener un folleto imprimible \nSiga nuestras páginas sociales para obtener detalles actualizados del evento:\nFacebook: Click here\nInstagram: Click here\nLinked In: Click here \nClick here para ver fotos de eventos anteriores de Storybook Street \n¿Tienes preguntas? Envía un email a Ana McClendon: amcclendon@elcsarasota.org
URL:https://www.sarasotachildrensmuseum.org/event/batter-up-for-books-elcs-5th-annual-storybook-street/
LOCATION:Ed Smith Stadium\, 2700 12th Street\, Sarasota\, FL\, 34237
CATEGORIES:Program
ATTACH;FMTTYPE=image/jpeg:https://www.sarasotachildrensmuseum.org/wp-content/uploads/2025/01/467305467_977040924465304_749571634258825703_n.jpg
END:VEVENT
BEGIN:VEVENT
DTSTART;TZID=UTC:20241116T100000
DTEND;TZID=UTC:20241116T140000
DTSTAMP:20260423T211801
CREATED:20241113T022800Z
LAST-MODIFIED:20241113T022822Z
UID:5691-1731751200-1731765600@www.sarasotachildrensmuseum.org
SUMMARY:First Rotation Celebration
DESCRIPTION:Interested in becoming a business sponsor? Learn more here.
URL:https://www.sarasotachildrensmuseum.org/event/first-rotation-celebration/
LOCATION:Payne Park\, 2010 Adams Lane\, Sarasota\, 34237\, United States
CATEGORIES:Program
ATTACH;FMTTYPE=image/jpeg:https://www.sarasotachildrensmuseum.org/wp-content/uploads/2024/11/Volunteers-needed-1920-x-1080-px.jpg
END:VEVENT
END:VCALENDAR