BEGIN:VCALENDAR
VERSION:2.0
PRODID:-//Sarasota Children&#039;s Museum - ECPv6.8.1//NONSGML v1.0//EN
CALSCALE:GREGORIAN
METHOD:PUBLISH
X-ORIGINAL-URL:https://www.sarasotachildrensmuseum.org
X-WR-CALDESC:Events for Sarasota Children&#039;s Museum
REFRESH-INTERVAL;VALUE=DURATION:PT1H
X-Robots-Tag:noindex
X-PUBLISHED-TTL:PT1H
BEGIN:VTIMEZONE
TZID:UTC
BEGIN:STANDARD
TZOFFSETFROM:+0000
TZOFFSETTO:+0000
TZNAME:UTC
DTSTART:20260101T000000
END:STANDARD
END:VTIMEZONE
BEGIN:VEVENT
DTSTART;TZID=UTC:20260328T103000
DTEND;TZID=UTC:20260328T160000
DTSTAMP:20260421T135414
CREATED:20260226T021611Z
LAST-MODIFIED:20260226T021611Z
UID:6406-1774693800-1774713600@www.sarasotachildrensmuseum.org
SUMMARY:Wild About Nature STEAM Day
DESCRIPTION:Join the Sarasota Children’s Museum for a day of hands-on environmental exploration at Wild About Nature! This interactive outdoor STEAM experience invites children and families to discover Florida’s ecosystems through engaging activities focused on seed dispersal\, habitats\, and conservation. \nThroughout the day\, children can create seed nuggets\, experiment with wind dispersal\, and learn how animals help move seeds in nature — all while connecting real science concepts to real-world environmental impact. \nThis free\, family-friendly event brings accessible\, hands-on STEAM learning into a beautiful natural setting and continues to build excitement for the future Sarasota Children’s Museum.
URL:https://www.sarasotachildrensmuseum.org/event/wild-about-nature-steam-day/
LOCATION:The Bay Preserve\, 400 Palmetto Avenue\, Osprey\, FL\, 34229\, United States
CATEGORIES:Local Event
ATTACH;FMTTYPE=image/jpeg:https://www.sarasotachildrensmuseum.org/wp-content/uploads/2026/02/Skye-Ranch-School-STEAM-Night-1.jpg
END:VEVENT
END:VCALENDAR