BEGIN:VCALENDAR
VERSION:2.0
PRODID:-//Sarasota Children&#039;s Museum - ECPv6.8.1//NONSGML v1.0//EN
CALSCALE:GREGORIAN
METHOD:PUBLISH
X-WR-CALNAME:Sarasota Children&#039;s Museum
X-ORIGINAL-URL:https://www.sarasotachildrensmuseum.org
X-WR-CALDESC:Events for Sarasota Children&#039;s Museum
REFRESH-INTERVAL;VALUE=DURATION:PT1H
X-Robots-Tag:noindex
X-PUBLISHED-TTL:PT1H
BEGIN:VTIMEZONE
TZID:UTC
BEGIN:STANDARD
TZOFFSETFROM:+0000
TZOFFSETTO:+0000
TZNAME:UTC
DTSTART:20250101T000000
END:STANDARD
END:VTIMEZONE
BEGIN:VEVENT
DTSTART;TZID=UTC:20251115T100000
DTEND;TZID=UTC:20251115T130000
DTSTAMP:20260424T160100
CREATED:20250907T223203Z
LAST-MODIFIED:20250916T221944Z
UID:6270-1763200800-1763211600@www.sarasotachildrensmuseum.org
SUMMARY:Sarasota Children's Museum STEAM Spectacular
DESCRIPTION:📅 Saturday\, November 15\, 10:00 AM – 1:00 PM\n📍 Bello Nock’s Property\, Sarasota\, FL\n10033 Fruitville Road \n  \nJoin us for a morning of wonder\, creativity\, and discovery at the Sarasota Children’s Museum STEAM Spectacular! This family-friendly event will feature hands-on Science\, Technology\, Engineering\, Art\, and Math activities\, plus exciting vendor partners bringing interactive experiences for kids of all ages. \nThis year’s Spectacular will be hosted at the incredible property of world-renowned daredevil Bello Nock\, making it a one-of-a-kind Sarasota event you won’t want to miss. \n🎟️ Tickets: $20 per carload – pack the whole family in and enjoy a day of fun and learning together.\n🚗 Parking is limited\, so carpooling is strongly encouraged. \nBring your curiosity\, your imagination\, and your sense of adventure for a morning filled with STEAM-powered fun! \nPlease click here to learn more about becoming a business sponsor.
URL:https://www.sarasotachildrensmuseum.org/event/sarasota-childrens-museum-steam-spectacular/
LOCATION:Bello Nock’s Property\, 10033 Fruitville Road\, Sarasota\, FL\, 34240
CATEGORIES:Fundraising,Local Event
ATTACH;FMTTYPE=image/jpeg:https://www.sarasotachildrensmuseum.org/wp-content/uploads/2025/09/Generated-Image-September-07-2025-3_17PM.jpeg
END:VEVENT
END:VCALENDAR